BEGIN:VCALENDAR

VERSION:2.0

PRODID:-//hacksw/handcal//NONSGML v1.0//EN

BEGIN:VEVENT

UID:6942538efdc40da55753926ed1d4779d

DTSTAMP:20200229T132710Z

DTSTART:19700101T140000

DTEND:19700101T143000

SUMMARY:R2-2236502 - MORAYFIELD, 6-8 Poplar Court

LOCATION:MORAYFIELD, 6-8 Poplar Court

END:VEVENT

END:VCALENDAR