BEGIN:VCALENDAR

VERSION:2.0

PRODID:-//hacksw/handcal//NONSGML v1.0//EN

BEGIN:VEVENT

UID:06e886363693f01ef0ecdc449bf50c46

DTSTAMP:20200229T132659Z

DTSTART:19700101T130000

DTEND:19700101T133000

SUMMARY:R2-2172403 - Narangba, 8 Paluma Place

LOCATION:Narangba, 8 Paluma Place

END:VEVENT

END:VCALENDAR