BEGIN:VCALENDAR

VERSION:2.0

PRODID:-//hacksw/handcal//NONSGML v1.0//EN

BEGIN:VEVENT

UID:c3507d25c3152211da1301db87e726c1

DTSTAMP:20200229T132648Z

DTSTART:19700101T120000

DTEND:19700101T123000

SUMMARY:R2-2175287 - NARANGBA, 4 Barrine Place

LOCATION:NARANGBA, 4 Barrine Place

END:VEVENT

END:VCALENDAR