BEGIN:VCALENDAR

VERSION:2.0

PRODID:-//hacksw/handcal//NONSGML v1.0//EN

BEGIN:VEVENT

UID:0bfa1c3df39adc33842bc30a63438fc3

DTSTAMP:20200229T132610Z

DTSTART:19700101T110000

DTEND:19700101T113000

SUMMARY:R2-2196188 - NARANGBA, 90 River Oak Way

LOCATION:NARANGBA, 90 River Oak Way

END:VEVENT

END:VCALENDAR