BEGIN:VCALENDAR

VERSION:2.0

PRODID:-//hacksw/handcal//NONSGML v1.0//EN

BEGIN:VEVENT

UID:ca9b57167d927d909b367dd1509613f6

DTSTAMP:20200229T132533Z

DTSTART:19700101T104500

DTEND:19700101T113000

SUMMARY:R2-2164935 - Kurwongbah, 75 Browns Road

LOCATION:Kurwongbah, 75 Browns Road

END:VEVENT

END:VCALENDAR