BEGIN:VCALENDAR

VERSION:2.0

PRODID:-//hacksw/handcal//NONSGML v1.0//EN

BEGIN:VEVENT

UID:efbf236cc87cc4674c4fa8f44b69e944

DTSTAMP:20200229T132520Z

DTSTART:19700101T100000

DTEND:19700101T103000

SUMMARY:R2-2194199 - NORTH LAKES, 15 Crawford Street

LOCATION:NORTH LAKES, 15 Crawford Street

END:VEVENT

END:VCALENDAR