BEGIN:VCALENDAR

VERSION:2.0

PRODID:-//hacksw/handcal//NONSGML v1.0//EN

BEGIN:VEVENT

UID:83c6eed570402cf02cca8cbf632fac8a

DTSTAMP:20200229T132510Z

DTSTART:19700101T093000

DTEND:19700101T100000

SUMMARY:R2-2236502 - MORAYFIELD, 6-8 Poplar Court

LOCATION:MORAYFIELD, 6-8 Poplar Court

END:VEVENT

END:VCALENDAR