BEGIN:VCALENDAR

VERSION:2.0

PRODID:-//hacksw/handcal//NONSGML v1.0//EN

BEGIN:VEVENT

UID:acb84a63d82fbdb7dba2e3982c771eed

DTSTAMP:20200229T132224Z

DTSTART:19700101T090000

DTEND:19700101T093000

SUMMARY:R2-2224877 - Narangba, 27 Grace Crescent

LOCATION:Narangba, 27 Grace Crescent

END:VEVENT

END:VCALENDAR