BEGIN:VCALENDAR

VERSION:2.0

PRODID:-//hacksw/handcal//NONSGML v1.0//EN

BEGIN:VEVENT

UID:1710d3ea4aef63d19f0510ff4572eb6a

DTSTAMP:20200229T132340Z

DTSTART:19700101T090000

DTEND:19700101T093000

SUMMARY:R2-2211512 - North Lakes, 25 The Corso

LOCATION:North Lakes, 25 The Corso

END:VEVENT

END:VCALENDAR